BEGIN:VCALENDAR
VERSION:2.0
PRODID:-//Ecole Sainte Marie - Vallet - ECPv6.15.20//NONSGML v1.0//EN
CALSCALE:GREGORIAN
METHOD:PUBLISH
X-WR-CALNAME:Ecole Sainte Marie - Vallet
X-ORIGINAL-URL:https://www.ecole-sainte-marie-vallet.fr
X-WR-CALDESC:Évènements pour Ecole Sainte Marie - Vallet
REFRESH-INTERVAL;VALUE=DURATION:PT1H
X-Robots-Tag:noindex
X-PUBLISHED-TTL:PT1H
BEGIN:VTIMEZONE
TZID:Europe/Paris
BEGIN:DAYLIGHT
TZOFFSETFROM:+0100
TZOFFSETTO:+0200
TZNAME:CEST
DTSTART:20230326T010000
END:DAYLIGHT
BEGIN:STANDARD
TZOFFSETFROM:+0200
TZOFFSETTO:+0100
TZNAME:CET
DTSTART:20231029T010000
END:STANDARD
BEGIN:DAYLIGHT
TZOFFSETFROM:+0100
TZOFFSETTO:+0200
TZNAME:CEST
DTSTART:20240331T010000
END:DAYLIGHT
BEGIN:STANDARD
TZOFFSETFROM:+0200
TZOFFSETTO:+0100
TZNAME:CET
DTSTART:20241027T010000
END:STANDARD
BEGIN:DAYLIGHT
TZOFFSETFROM:+0100
TZOFFSETTO:+0200
TZNAME:CEST
DTSTART:20250330T010000
END:DAYLIGHT
BEGIN:STANDARD
TZOFFSETFROM:+0200
TZOFFSETTO:+0100
TZNAME:CET
DTSTART:20251026T010000
END:STANDARD
END:VTIMEZONE
BEGIN:VEVENT
DTSTART;TZID=Europe/Paris:20240411T090000
DTEND;TZID=Europe/Paris:20240411T120000
DTSTAMP:20260424T031048
CREATED:20240404T161403Z
LAST-MODIFIED:20240404T161403Z
UID:12994-1712826000-1712836800@www.ecole-sainte-marie-vallet.fr
SUMMARY:CM1-CM2 - Sortie aux marais de Goulaine
DESCRIPTION:
URL:https://www.ecole-sainte-marie-vallet.fr/event/cm1-cm2-sortie-aux-marais-de-goulaine/
END:VEVENT
BEGIN:VEVENT
DTSTART;TZID=Europe/Paris:20240411T153000
DTEND;TZID=Europe/Paris:20240411T163000
DTSTAMP:20260424T031048
CREATED:20240323T112637Z
LAST-MODIFIED:20240323T112637Z
UID:12971-1712849400-1712853000@www.ecole-sainte-marie-vallet.fr
SUMMARY:Flashmob des 20 ans du Cep Party
DESCRIPTION:
URL:https://www.ecole-sainte-marie-vallet.fr/event/flashmob-des-20-ans-du-cep-party/
END:VEVENT
END:VCALENDAR