BEGIN:VCALENDAR
VERSION:2.0
PRODID:-//Ecole Sainte Marie - Vallet - ECPv6.15.20//NONSGML v1.0//EN
CALSCALE:GREGORIAN
METHOD:PUBLISH
X-ORIGINAL-URL:https://www.ecole-sainte-marie-vallet.fr
X-WR-CALDESC:Évènements pour Ecole Sainte Marie - Vallet
REFRESH-INTERVAL;VALUE=DURATION:PT1H
X-Robots-Tag:noindex
X-PUBLISHED-TTL:PT1H
BEGIN:VTIMEZONE
TZID:Europe/Paris
BEGIN:DAYLIGHT
TZOFFSETFROM:+0100
TZOFFSETTO:+0200
TZNAME:CEST
DTSTART:20230326T010000
END:DAYLIGHT
BEGIN:STANDARD
TZOFFSETFROM:+0200
TZOFFSETTO:+0100
TZNAME:CET
DTSTART:20231029T010000
END:STANDARD
BEGIN:DAYLIGHT
TZOFFSETFROM:+0100
TZOFFSETTO:+0200
TZNAME:CEST
DTSTART:20240331T010000
END:DAYLIGHT
BEGIN:STANDARD
TZOFFSETFROM:+0200
TZOFFSETTO:+0100
TZNAME:CET
DTSTART:20241027T010000
END:STANDARD
BEGIN:DAYLIGHT
TZOFFSETFROM:+0100
TZOFFSETTO:+0200
TZNAME:CEST
DTSTART:20250330T010000
END:DAYLIGHT
BEGIN:STANDARD
TZOFFSETFROM:+0200
TZOFFSETTO:+0100
TZNAME:CET
DTSTART:20251026T010000
END:STANDARD
END:VTIMEZONE
BEGIN:VEVENT
DTSTART;VALUE=DATE:20240625
DTEND;VALUE=DATE:20240626
DTSTAMP:20260424T004914
CREATED:20240529T074712Z
LAST-MODIFIED:20240529T074712Z
UID:13096-1719273600-1719359999@www.ecole-sainte-marie-vallet.fr
SUMMARY:CM : Cinéma
DESCRIPTION:
URL:https://www.ecole-sainte-marie-vallet.fr/event/cm-cinema-3/
END:VEVENT
BEGIN:VEVENT
DTSTART;TZID=Europe/Paris:20240625T170000
DTEND;TZID=Europe/Paris:20240625T190000
DTSTAMP:20260424T004914
CREATED:20240531T114134Z
LAST-MODIFIED:20240531T114634Z
UID:13098-1719334800-1719342000@www.ecole-sainte-marie-vallet.fr
SUMMARY:Fête de la périscolaire
DESCRIPTION:Venez partager un temps de convivialité avec vos enfants pour fêter avec toute l’équipe périscolaire maternel et primaire la fin de cette année! \nJeux\, goûter\, tatouages\, jeux en bois\,…
URL:https://www.ecole-sainte-marie-vallet.fr/event/sortie-au-jardin-de-melisse-psa-et-psb/
END:VEVENT
END:VCALENDAR