BEGIN:VCALENDAR
VERSION:2.0
PRODID:-//Ecole Sainte Marie - Vallet - ECPv6.15.20//NONSGML v1.0//EN
CALSCALE:GREGORIAN
METHOD:PUBLISH
X-ORIGINAL-URL:https://www.ecole-sainte-marie-vallet.fr
X-WR-CALDESC:Évènements pour Ecole Sainte Marie - Vallet
REFRESH-INTERVAL;VALUE=DURATION:PT1H
X-Robots-Tag:noindex
X-PUBLISHED-TTL:PT1H
BEGIN:VTIMEZONE
TZID:Europe/Paris
BEGIN:DAYLIGHT
TZOFFSETFROM:+0100
TZOFFSETTO:+0200
TZNAME:CEST
DTSTART:20230326T010000
END:DAYLIGHT
BEGIN:STANDARD
TZOFFSETFROM:+0200
TZOFFSETTO:+0100
TZNAME:CET
DTSTART:20231029T010000
END:STANDARD
BEGIN:DAYLIGHT
TZOFFSETFROM:+0100
TZOFFSETTO:+0200
TZNAME:CEST
DTSTART:20240331T010000
END:DAYLIGHT
BEGIN:STANDARD
TZOFFSETFROM:+0200
TZOFFSETTO:+0100
TZNAME:CET
DTSTART:20241027T010000
END:STANDARD
BEGIN:DAYLIGHT
TZOFFSETFROM:+0100
TZOFFSETTO:+0200
TZNAME:CEST
DTSTART:20250330T010000
END:DAYLIGHT
BEGIN:STANDARD
TZOFFSETFROM:+0200
TZOFFSETTO:+0100
TZNAME:CET
DTSTART:20251026T010000
END:STANDARD
END:VTIMEZONE
BEGIN:VEVENT
DTSTART;TZID=Europe/Paris:20240913T110000
DTEND;TZID=Europe/Paris:20240913T113000
DTSTAMP:20260423T204338
CREATED:20240906T073621Z
LAST-MODIFIED:20240906T073621Z
UID:13227-1726225200-1726227000@www.ecole-sainte-marie-vallet.fr
SUMMARY:Rassemblement d'élèves
DESCRIPTION:A l’occasion de la rentrée\, nous accueillerons les nouveaux élèves et pratiquerons la visite de l’école entre classe tutorat. \nUn moment que les enfants affectionnent !
URL:https://www.ecole-sainte-marie-vallet.fr/event/rassemblement-deleves/
END:VEVENT
END:VCALENDAR