BEGIN:VCALENDAR
VERSION:2.0
PRODID:-//Ecole Sainte Marie - Vallet - ECPv6.15.20//NONSGML v1.0//EN
CALSCALE:GREGORIAN
METHOD:PUBLISH
X-ORIGINAL-URL:https://www.ecole-sainte-marie-vallet.fr
X-WR-CALDESC:Évènements pour Ecole Sainte Marie - Vallet
REFRESH-INTERVAL;VALUE=DURATION:PT1H
X-Robots-Tag:noindex
X-PUBLISHED-TTL:PT1H
BEGIN:VTIMEZONE
TZID:Europe/Paris
BEGIN:DAYLIGHT
TZOFFSETFROM:+0100
TZOFFSETTO:+0200
TZNAME:CEST
DTSTART:20230326T010000
END:DAYLIGHT
BEGIN:STANDARD
TZOFFSETFROM:+0200
TZOFFSETTO:+0100
TZNAME:CET
DTSTART:20231029T010000
END:STANDARD
BEGIN:DAYLIGHT
TZOFFSETFROM:+0100
TZOFFSETTO:+0200
TZNAME:CEST
DTSTART:20240331T010000
END:DAYLIGHT
BEGIN:STANDARD
TZOFFSETFROM:+0200
TZOFFSETTO:+0100
TZNAME:CET
DTSTART:20241027T010000
END:STANDARD
BEGIN:DAYLIGHT
TZOFFSETFROM:+0100
TZOFFSETTO:+0200
TZNAME:CEST
DTSTART:20250330T010000
END:DAYLIGHT
BEGIN:STANDARD
TZOFFSETFROM:+0200
TZOFFSETTO:+0100
TZNAME:CET
DTSTART:20251026T010000
END:STANDARD
END:VTIMEZONE
BEGIN:VEVENT
DTSTART;VALUE=DATE:20240927
DTEND;VALUE=DATE:20240928
DTSTAMP:20260423T204339
CREATED:20240913T095344Z
LAST-MODIFIED:20240913T095344Z
UID:13245-1727395200-1727481599@www.ecole-sainte-marie-vallet.fr
SUMMARY:Sortie voile CM1 A et B
DESCRIPTION:
URL:https://www.ecole-sainte-marie-vallet.fr/event/sortie-voile-cm1-a-et-b-2/
END:VEVENT
BEGIN:VEVENT
DTSTART;TZID=Europe/Paris:20240927T183000
DTEND;TZID=Europe/Paris:20240927T193000
DTSTAMP:20260423T204339
CREATED:20240913T095029Z
LAST-MODIFIED:20240913T095029Z
UID:13237-1727461800-1727465400@www.ecole-sainte-marie-vallet.fr
SUMMARY:Réunion classe CE2 A et B
DESCRIPTION:
URL:https://www.ecole-sainte-marie-vallet.fr/event/reunion-classe-ce2-a-et-b/
END:VEVENT
END:VCALENDAR