BEGIN:VCALENDAR
VERSION:2.0
PRODID:-//Ecole Sainte Marie - Vallet - ECPv6.15.20//NONSGML v1.0//EN
CALSCALE:GREGORIAN
METHOD:PUBLISH
X-ORIGINAL-URL:https://www.ecole-sainte-marie-vallet.fr
X-WR-CALDESC:Évènements pour Ecole Sainte Marie - Vallet
REFRESH-INTERVAL;VALUE=DURATION:PT1H
X-Robots-Tag:noindex
X-PUBLISHED-TTL:PT1H
BEGIN:VTIMEZONE
TZID:Europe/Paris
BEGIN:DAYLIGHT
TZOFFSETFROM:+0100
TZOFFSETTO:+0200
TZNAME:CEST
DTSTART:20240331T010000
END:DAYLIGHT
BEGIN:STANDARD
TZOFFSETFROM:+0200
TZOFFSETTO:+0100
TZNAME:CET
DTSTART:20241027T010000
END:STANDARD
BEGIN:DAYLIGHT
TZOFFSETFROM:+0100
TZOFFSETTO:+0200
TZNAME:CEST
DTSTART:20250330T010000
END:DAYLIGHT
BEGIN:STANDARD
TZOFFSETFROM:+0200
TZOFFSETTO:+0100
TZNAME:CET
DTSTART:20251026T010000
END:STANDARD
BEGIN:DAYLIGHT
TZOFFSETFROM:+0100
TZOFFSETTO:+0200
TZNAME:CEST
DTSTART:20260329T010000
END:DAYLIGHT
BEGIN:STANDARD
TZOFFSETFROM:+0200
TZOFFSETTO:+0100
TZNAME:CET
DTSTART:20261025T010000
END:STANDARD
END:VTIMEZONE
BEGIN:VEVENT
DTSTART;VALUE=DATE:20250925
DTEND;VALUE=DATE:20250927
DTSTAMP:20260423T040824
CREATED:20250918T063633Z
LAST-MODIFIED:20250918T063633Z
UID:13793-1758758400-1758931199@www.ecole-sainte-marie-vallet.fr
SUMMARY:Photos de classe
DESCRIPTION:
URL:https://www.ecole-sainte-marie-vallet.fr/event/photos-de-classe/
END:VEVENT
BEGIN:VEVENT
DTSTART;TZID=Europe/Paris:20250925T180000
DTEND;TZID=Europe/Paris:20250925T190000
DTSTAMP:20260423T040824
CREATED:20250911T091149Z
LAST-MODIFIED:20250911T091149Z
UID:13788-1758823200-1758826800@www.ecole-sainte-marie-vallet.fr
SUMMARY:CE2 - réunion de classe
DESCRIPTION:
URL:https://www.ecole-sainte-marie-vallet.fr/event/ce2-reunion-de-classe/
END:VEVENT
END:VCALENDAR