BEGIN:VCALENDAR
VERSION:2.0
PRODID:-//Ecole Sainte Marie - Vallet - ECPv6.15.20//NONSGML v1.0//EN
CALSCALE:GREGORIAN
METHOD:PUBLISH
X-ORIGINAL-URL:https://www.ecole-sainte-marie-vallet.fr
X-WR-CALDESC:Évènements pour Ecole Sainte Marie - Vallet
REFRESH-INTERVAL;VALUE=DURATION:PT1H
X-Robots-Tag:noindex
X-PUBLISHED-TTL:PT1H
BEGIN:VTIMEZONE
TZID:Europe/Paris
BEGIN:DAYLIGHT
TZOFFSETFROM:+0100
TZOFFSETTO:+0200
TZNAME:CEST
DTSTART:20240331T010000
END:DAYLIGHT
BEGIN:STANDARD
TZOFFSETFROM:+0200
TZOFFSETTO:+0100
TZNAME:CET
DTSTART:20241027T010000
END:STANDARD
BEGIN:DAYLIGHT
TZOFFSETFROM:+0100
TZOFFSETTO:+0200
TZNAME:CEST
DTSTART:20250330T010000
END:DAYLIGHT
BEGIN:STANDARD
TZOFFSETFROM:+0200
TZOFFSETTO:+0100
TZNAME:CET
DTSTART:20251026T010000
END:STANDARD
BEGIN:DAYLIGHT
TZOFFSETFROM:+0100
TZOFFSETTO:+0200
TZNAME:CEST
DTSTART:20260329T010000
END:DAYLIGHT
BEGIN:STANDARD
TZOFFSETFROM:+0200
TZOFFSETTO:+0100
TZNAME:CET
DTSTART:20261025T010000
END:STANDARD
END:VTIMEZONE
BEGIN:VEVENT
DTSTART;VALUE=DATE:20251120
DTEND;VALUE=DATE:20251121
DTSTAMP:20260423T013735
CREATED:20251008T083623Z
LAST-MODIFIED:20251008T083623Z
UID:13833-1763596800-1763683199@www.ecole-sainte-marie-vallet.fr
SUMMARY:CM1 - CM2 - Microfolie
DESCRIPTION:
URL:https://www.ecole-sainte-marie-vallet.fr/event/cm1-cm2-microfolie/
END:VEVENT
BEGIN:VEVENT
DTSTART;TZID=Europe/Paris:20251120T193000
DTEND;TZID=Europe/Paris:20251120T203000
DTSTAMP:20260423T013735
CREATED:20251114T143512Z
LAST-MODIFIED:20251114T143512Z
UID:13888-1763667000-1763670600@www.ecole-sainte-marie-vallet.fr
SUMMARY:Assemblée générale APEL
DESCRIPTION:Dans la salle des marronniers \ncour des MS et GS
URL:https://www.ecole-sainte-marie-vallet.fr/event/assemblee-generale-apel/
END:VEVENT
END:VCALENDAR