BEGIN:VCALENDAR
VERSION:2.0
PRODID:-//Ecole Sainte Marie - Vallet - ECPv6.15.20//NONSGML v1.0//EN
CALSCALE:GREGORIAN
METHOD:PUBLISH
X-WR-CALNAME:Ecole Sainte Marie - Vallet
X-ORIGINAL-URL:https://www.ecole-sainte-marie-vallet.fr
X-WR-CALDESC:Évènements pour Ecole Sainte Marie - Vallet
REFRESH-INTERVAL;VALUE=DURATION:PT1H
X-Robots-Tag:noindex
X-PUBLISHED-TTL:PT1H
BEGIN:VTIMEZONE
TZID:Europe/Paris
BEGIN:DAYLIGHT
TZOFFSETFROM:+0100
TZOFFSETTO:+0200
TZNAME:CEST
DTSTART:20240331T010000
END:DAYLIGHT
BEGIN:STANDARD
TZOFFSETFROM:+0200
TZOFFSETTO:+0100
TZNAME:CET
DTSTART:20241027T010000
END:STANDARD
BEGIN:DAYLIGHT
TZOFFSETFROM:+0100
TZOFFSETTO:+0200
TZNAME:CEST
DTSTART:20250330T010000
END:DAYLIGHT
BEGIN:STANDARD
TZOFFSETFROM:+0200
TZOFFSETTO:+0100
TZNAME:CET
DTSTART:20251026T010000
END:STANDARD
BEGIN:DAYLIGHT
TZOFFSETFROM:+0100
TZOFFSETTO:+0200
TZNAME:CEST
DTSTART:20260329T010000
END:DAYLIGHT
BEGIN:STANDARD
TZOFFSETFROM:+0200
TZOFFSETTO:+0100
TZNAME:CET
DTSTART:20261025T010000
END:STANDARD
BEGIN:DAYLIGHT
TZOFFSETFROM:+0100
TZOFFSETTO:+0200
TZNAME:CEST
DTSTART:20270328T010000
END:DAYLIGHT
BEGIN:STANDARD
TZOFFSETFROM:+0200
TZOFFSETTO:+0100
TZNAME:CET
DTSTART:20271031T010000
END:STANDARD
END:VTIMEZONE
BEGIN:VEVENT
DTSTART;TZID=Europe/Paris:20260410T100000
DTEND;TZID=Europe/Paris:20260410T110000
DTSTAMP:20260422T182028
CREATED:20260307T084324Z
LAST-MODIFIED:20260307T084324Z
UID:13986-1775815200-1775818800@www.ecole-sainte-marie-vallet.fr
SUMMARY:Célébration de Pâques
DESCRIPTION:
URL:https://www.ecole-sainte-marie-vallet.fr/event/celebration-de-paques/
END:VEVENT
BEGIN:VEVENT
DTSTART;TZID=Europe/Paris:20260409T133000
DTEND;TZID=Europe/Paris:20260409T150000
DTSTAMP:20260422T182028
CREATED:20260307T084248Z
LAST-MODIFIED:20260307T084248Z
UID:13984-1775741400-1775746800@www.ecole-sainte-marie-vallet.fr
SUMMARY:CM1 et CM2a : Cep Party
DESCRIPTION:
URL:https://www.ecole-sainte-marie-vallet.fr/event/cm1-et-cm2a-cep-party/
END:VEVENT
BEGIN:VEVENT
DTSTART;TZID=Europe/Paris:20260407T100000
DTEND;TZID=Europe/Paris:20260407T113000
DTSTAMP:20260422T182028
CREATED:20260307T084212Z
LAST-MODIFIED:20260307T084212Z
UID:13982-1775556000-1775561400@www.ecole-sainte-marie-vallet.fr
SUMMARY:CM2b : Cep Party
DESCRIPTION:
URL:https://www.ecole-sainte-marie-vallet.fr/event/cm2b-cep-party/
END:VEVENT
BEGIN:VEVENT
DTSTART;VALUE=DATE:20260403
DTEND;VALUE=DATE:20260404
DTSTAMP:20260422T182028
CREATED:20260307T083934Z
LAST-MODIFIED:20260307T083934Z
UID:13978-1775174400-1775260799@www.ecole-sainte-marie-vallet.fr
SUMMARY:Bol de riz
DESCRIPTION:pour l’association « Un enfant par la main »
URL:https://www.ecole-sainte-marie-vallet.fr/event/bol-de-riz-3/
END:VEVENT
BEGIN:VEVENT
DTSTART;TZID=Europe/Paris:20260402T103000
DTEND;TZID=Europe/Paris:20260402T113000
DTSTAMP:20260422T182028
CREATED:20260307T084124Z
LAST-MODIFIED:20260307T084124Z
UID:13980-1775125800-1775129400@www.ecole-sainte-marie-vallet.fr
SUMMARY:CM1-CM2 : Cep Party
DESCRIPTION:
URL:https://www.ecole-sainte-marie-vallet.fr/event/cm1-cm2-cep-party/
END:VEVENT
BEGIN:VEVENT
DTSTART;TZID=Europe/Paris:20260321T100000
DTEND;TZID=Europe/Paris:20260321T120000
DTSTAMP:20260422T182028
CREATED:20251114T143309Z
LAST-MODIFIED:20251114T143309Z
UID:13886-1774087200-1774094400@www.ecole-sainte-marie-vallet.fr
SUMMARY:Portes ouvertes
DESCRIPTION:
URL:https://www.ecole-sainte-marie-vallet.fr/event/portes-ouvertes-3/
END:VEVENT
BEGIN:VEVENT
DTSTART;TZID=Europe/Paris:20260320T103000
DTEND;TZID=Europe/Paris:20260320T113000
DTSTAMP:20260422T182028
CREATED:20260307T083852Z
LAST-MODIFIED:20260307T083852Z
UID:13976-1774002600-1774006200@www.ecole-sainte-marie-vallet.fr
SUMMARY:Carnaval défilé
DESCRIPTION:
URL:https://www.ecole-sainte-marie-vallet.fr/event/carnaval-defile/
END:VEVENT
BEGIN:VEVENT
DTSTART;TZID=Europe/Paris:20260202T050000
DTEND;TZID=Europe/Paris:20260206T213000
DTSTAMP:20260422T182028
CREATED:20251219T143244Z
LAST-MODIFIED:20251219T143244Z
UID:13931-1770008400-1770413400@www.ecole-sainte-marie-vallet.fr
SUMMARY:Voyage en BELGIQUE
DESCRIPTION:CM2
URL:https://www.ecole-sainte-marie-vallet.fr/event/voyage-en-belgique/
END:VEVENT
BEGIN:VEVENT
DTSTART;VALUE=DATE:20251206
DTEND;VALUE=DATE:20251207
DTSTAMP:20260422T182028
CREATED:20251008T083854Z
LAST-MODIFIED:20251008T083854Z
UID:13841-1764979200-1765065599@www.ecole-sainte-marie-vallet.fr
SUMMARY:Illumination et marché de Noël
DESCRIPTION:
URL:https://www.ecole-sainte-marie-vallet.fr/event/illumination-et-marche-de-noel/
END:VEVENT
BEGIN:VEVENT
DTSTART;TZID=Europe/Paris:20251205T100000
DTEND;TZID=Europe/Paris:20251205T110000
DTSTAMP:20260422T182028
CREATED:20251008T083821Z
LAST-MODIFIED:20251008T083821Z
UID:13839-1764928800-1764932400@www.ecole-sainte-marie-vallet.fr
SUMMARY:Célébration de Noël
DESCRIPTION:
URL:https://www.ecole-sainte-marie-vallet.fr/event/celebration-de-noel/
END:VEVENT
BEGIN:VEVENT
DTSTART;VALUE=DATE:20251204
DTEND;VALUE=DATE:20251205
DTSTAMP:20260422T182028
CREATED:20251008T083740Z
LAST-MODIFIED:20251008T083740Z
UID:13837-1764806400-1764892799@www.ecole-sainte-marie-vallet.fr
SUMMARY:CM1 A et B - Médiathèque (petits champions de la lecture)
DESCRIPTION:
URL:https://www.ecole-sainte-marie-vallet.fr/event/cm1-a-et-b-mediatheque-petits-champions-de-la-lecture/
END:VEVENT
BEGIN:VEVENT
DTSTART;VALUE=DATE:20251125
DTEND;VALUE=DATE:20251126
DTSTAMP:20260422T182028
CREATED:20251008T083644Z
LAST-MODIFIED:20251008T083644Z
UID:13835-1764028800-1764115199@www.ecole-sainte-marie-vallet.fr
SUMMARY:CM1 A - Microfolie
DESCRIPTION:
URL:https://www.ecole-sainte-marie-vallet.fr/event/cm1-a-microfolie/
END:VEVENT
BEGIN:VEVENT
DTSTART;TZID=Europe/Paris:20251120T193000
DTEND;TZID=Europe/Paris:20251120T203000
DTSTAMP:20260422T182028
CREATED:20251114T143512Z
LAST-MODIFIED:20251114T143512Z
UID:13888-1763667000-1763670600@www.ecole-sainte-marie-vallet.fr
SUMMARY:Assemblée générale APEL
DESCRIPTION:Dans la salle des marronniers \ncour des MS et GS
URL:https://www.ecole-sainte-marie-vallet.fr/event/assemblee-generale-apel/
END:VEVENT
BEGIN:VEVENT
DTSTART;VALUE=DATE:20251120
DTEND;VALUE=DATE:20251121
DTSTAMP:20260422T182028
CREATED:20251008T083623Z
LAST-MODIFIED:20251008T083623Z
UID:13833-1763596800-1763683199@www.ecole-sainte-marie-vallet.fr
SUMMARY:CM1 - CM2 - Microfolie
DESCRIPTION:
URL:https://www.ecole-sainte-marie-vallet.fr/event/cm1-cm2-microfolie/
END:VEVENT
BEGIN:VEVENT
DTSTART;VALUE=DATE:20251113
DTEND;VALUE=DATE:20251114
DTSTAMP:20260422T182028
CREATED:20251008T083335Z
LAST-MODIFIED:20251008T083335Z
UID:13827-1762992000-1763078399@www.ecole-sainte-marie-vallet.fr
SUMMARY:CM1 B - Microfolie
DESCRIPTION:
URL:https://www.ecole-sainte-marie-vallet.fr/event/cm1-b-microfolie/
END:VEVENT
BEGIN:VEVENT
DTSTART;VALUE=DATE:20251107
DTEND;VALUE=DATE:20251108
DTSTAMP:20260422T182028
CREATED:20251016T152324Z
LAST-MODIFIED:20251016T152324Z
UID:13852-1762473600-1762559999@www.ecole-sainte-marie-vallet.fr
SUMMARY:Cycles 1 et 2 - Cirque
DESCRIPTION:
URL:https://www.ecole-sainte-marie-vallet.fr/event/cycles-1-et-2-cirque/
END:VEVENT
BEGIN:VEVENT
DTSTART;VALUE=DATE:20251106
DTEND;VALUE=DATE:20251107
DTSTAMP:20260422T182028
CREATED:20251008T083559Z
LAST-MODIFIED:20251008T083559Z
UID:13831-1762387200-1762473599@www.ecole-sainte-marie-vallet.fr
SUMMARY:CM2 A - Microfolie
DESCRIPTION:
URL:https://www.ecole-sainte-marie-vallet.fr/event/cm2-a-microfolie/
END:VEVENT
BEGIN:VEVENT
DTSTART;VALUE=DATE:20251104
DTEND;VALUE=DATE:20251105
DTSTAMP:20260422T182028
CREATED:20251008T083527Z
LAST-MODIFIED:20251008T083527Z
UID:13829-1762214400-1762300799@www.ecole-sainte-marie-vallet.fr
SUMMARY:CM2 B - Microfolie
DESCRIPTION:
URL:https://www.ecole-sainte-marie-vallet.fr/event/cm2-b-microfolie/
END:VEVENT
BEGIN:VEVENT
DTSTART;VALUE=DATE:20251104
DTEND;VALUE=DATE:20251105
DTSTAMP:20260422T182028
CREATED:20251008T083254Z
LAST-MODIFIED:20251008T083254Z
UID:13825-1762214400-1762300799@www.ecole-sainte-marie-vallet.fr
SUMMARY:CM - Cinéma
DESCRIPTION:
URL:https://www.ecole-sainte-marie-vallet.fr/event/cm-cinema-6/
END:VEVENT
BEGIN:VEVENT
DTSTART;VALUE=DATE:20251017
DTEND;VALUE=DATE:20251018
DTSTAMP:20260422T182028
CREATED:20250919T132959Z
LAST-MODIFIED:20250919T132959Z
UID:13795-1760659200-1760745599@www.ecole-sainte-marie-vallet.fr
SUMMARY:Journée pédagogique
DESCRIPTION:L’école sera fermée pour tous les élèves\, les enseignants et le personnel étant en formation.
URL:https://www.ecole-sainte-marie-vallet.fr/event/journee-pedagogique/
END:VEVENT
BEGIN:VEVENT
DTSTART;TZID=Europe/Paris:20251009T180000
DTEND;TZID=Europe/Paris:20251009T190000
DTSTAMP:20260422T182028
CREATED:20250902T143619Z
LAST-MODIFIED:20250902T161932Z
UID:13778-1760032800-1760036400@www.ecole-sainte-marie-vallet.fr
SUMMARY:CM1-CM2 et CM2 - Réunion de classe
DESCRIPTION:
URL:https://www.ecole-sainte-marie-vallet.fr/event/cm1-cm2-et-cm2-reunion-de-classe/
END:VEVENT
BEGIN:VEVENT
DTSTART;TZID=Europe/Paris:20250930T180000
DTEND;TZID=Europe/Paris:20250930T190000
DTSTAMP:20260422T182028
CREATED:20250902T143710Z
LAST-MODIFIED:20250902T161952Z
UID:13782-1759255200-1759258800@www.ecole-sainte-marie-vallet.fr
SUMMARY:CM1 B - Réunion de classe
DESCRIPTION:
URL:https://www.ecole-sainte-marie-vallet.fr/event/cm1-b-reunion-de-classe/
END:VEVENT
BEGIN:VEVENT
DTSTART;TZID=Europe/Paris:20250925T180000
DTEND;TZID=Europe/Paris:20250925T190000
DTSTAMP:20260422T182028
CREATED:20250911T091149Z
LAST-MODIFIED:20250911T091149Z
UID:13788-1758823200-1758826800@www.ecole-sainte-marie-vallet.fr
SUMMARY:CE2 - réunion de classe
DESCRIPTION:
URL:https://www.ecole-sainte-marie-vallet.fr/event/ce2-reunion-de-classe/
END:VEVENT
BEGIN:VEVENT
DTSTART;VALUE=DATE:20250925
DTEND;VALUE=DATE:20250927
DTSTAMP:20260422T182028
CREATED:20250918T063633Z
LAST-MODIFIED:20250918T063633Z
UID:13793-1758758400-1758931199@www.ecole-sainte-marie-vallet.fr
SUMMARY:Photos de classe
DESCRIPTION:
URL:https://www.ecole-sainte-marie-vallet.fr/event/photos-de-classe/
END:VEVENT
BEGIN:VEVENT
DTSTART;TZID=Europe/Paris:20250923T180000
DTEND;TZID=Europe/Paris:20250923T190000
DTSTAMP:20260422T182028
CREATED:20250902T143208Z
LAST-MODIFIED:20250902T162024Z
UID:13766-1758650400-1758654000@www.ecole-sainte-marie-vallet.fr
SUMMARY:PS - Réunion de classe
DESCRIPTION:
URL:https://www.ecole-sainte-marie-vallet.fr/event/ps-reunion-de-classe/
END:VEVENT
BEGIN:VEVENT
DTSTART;TZID=Europe/Paris:20250922T180000
DTEND;TZID=Europe/Paris:20250922T190000
DTSTAMP:20260422T182028
CREATED:20250902T143425Z
LAST-MODIFIED:20250902T162037Z
UID:13770-1758564000-1758567600@www.ecole-sainte-marie-vallet.fr
SUMMARY:MS - Réunion de classe
DESCRIPTION:
URL:https://www.ecole-sainte-marie-vallet.fr/event/ms-reunion-de-classe/
END:VEVENT
BEGIN:VEVENT
DTSTART;TZID=Europe/Paris:20250919T180000
DTEND;TZID=Europe/Paris:20250919T190000
DTSTAMP:20260422T182028
CREATED:20250902T143355Z
LAST-MODIFIED:20250902T162049Z
UID:13768-1758304800-1758308400@www.ecole-sainte-marie-vallet.fr
SUMMARY:MS-GS B et GS - Réunion de classe
DESCRIPTION:
URL:https://www.ecole-sainte-marie-vallet.fr/event/ms-gs-b-et-gs-reunion-de-classe/
END:VEVENT
BEGIN:VEVENT
DTSTART;TZID=Europe/Paris:20250916T180000
DTEND;TZID=Europe/Paris:20250916T190000
DTSTAMP:20260422T182028
CREATED:20250902T143644Z
LAST-MODIFIED:20250902T162118Z
UID:13780-1758045600-1758049200@www.ecole-sainte-marie-vallet.fr
SUMMARY:CM1 A - Réunion de classe
DESCRIPTION:
URL:https://www.ecole-sainte-marie-vallet.fr/event/cm1-a-reunion-de-classe/
END:VEVENT
BEGIN:VEVENT
DTSTART;TZID=Europe/Paris:20250915T180000
DTEND;TZID=Europe/Paris:20250915T190000
DTSTAMP:20260422T182028
CREATED:20250902T143454Z
LAST-MODIFIED:20250902T162130Z
UID:13772-1757959200-1757962800@www.ecole-sainte-marie-vallet.fr
SUMMARY:MS-GS A - Réunion de classe
DESCRIPTION:
URL:https://www.ecole-sainte-marie-vallet.fr/event/ms-gs-a-reunion-de-classe/
END:VEVENT
BEGIN:VEVENT
DTSTART;TZID=Europe/Paris:20250911T180000
DTEND;TZID=Europe/Paris:20250911T190000
DTSTAMP:20260422T182028
CREATED:20250902T143546Z
LAST-MODIFIED:20250902T162102Z
UID:13776-1757613600-1757617200@www.ecole-sainte-marie-vallet.fr
SUMMARY:CE1 - Réunion de classe
DESCRIPTION:
URL:https://www.ecole-sainte-marie-vallet.fr/event/ce1-reunion-de-classe/
END:VEVENT
END:VCALENDAR