BEGIN:VCALENDAR
VERSION:2.0
PRODID:-//Ecole Sainte Marie - Vallet - ECPv6.15.20//NONSGML v1.0//EN
CALSCALE:GREGORIAN
METHOD:PUBLISH
X-WR-CALNAME:Ecole Sainte Marie - Vallet
X-ORIGINAL-URL:https://www.ecole-sainte-marie-vallet.fr
X-WR-CALDESC:Évènements pour Ecole Sainte Marie - Vallet
REFRESH-INTERVAL;VALUE=DURATION:PT1H
X-Robots-Tag:noindex
X-PUBLISHED-TTL:PT1H
BEGIN:VTIMEZONE
TZID:Europe/Paris
BEGIN:DAYLIGHT
TZOFFSETFROM:+0100
TZOFFSETTO:+0200
TZNAME:CEST
DTSTART:20220327T010000
END:DAYLIGHT
BEGIN:STANDARD
TZOFFSETFROM:+0200
TZOFFSETTO:+0100
TZNAME:CET
DTSTART:20221030T010000
END:STANDARD
BEGIN:DAYLIGHT
TZOFFSETFROM:+0100
TZOFFSETTO:+0200
TZNAME:CEST
DTSTART:20230326T010000
END:DAYLIGHT
BEGIN:STANDARD
TZOFFSETFROM:+0200
TZOFFSETTO:+0100
TZNAME:CET
DTSTART:20231029T010000
END:STANDARD
BEGIN:DAYLIGHT
TZOFFSETFROM:+0100
TZOFFSETTO:+0200
TZNAME:CEST
DTSTART:20240331T010000
END:DAYLIGHT
BEGIN:STANDARD
TZOFFSETFROM:+0200
TZOFFSETTO:+0100
TZNAME:CET
DTSTART:20241027T010000
END:STANDARD
END:VTIMEZONE
BEGIN:VEVENT
DTSTART;VALUE=DATE:20230904
DTEND;VALUE=DATE:20230905
DTSTAMP:20260424T093532
CREATED:20230626T090724Z
LAST-MODIFIED:20230626T090724Z
UID:12148-1693785600-1693871999@www.ecole-sainte-marie-vallet.fr
SUMMARY:Rentrée scolaire 2023/2024
DESCRIPTION:
URL:https://www.ecole-sainte-marie-vallet.fr/event/rentree-scolaire-2023-2024/
END:VEVENT
BEGIN:VEVENT
DTSTART;TZID=Europe/Paris:20230912T183000
DTEND;TZID=Europe/Paris:20230912T193000
DTSTAMP:20260424T093532
CREATED:20230911T092928Z
LAST-MODIFIED:20230911T092928Z
UID:12321-1694543400-1694547000@www.ecole-sainte-marie-vallet.fr
SUMMARY:Réunion de classe CP A/B et CE1 A/B
DESCRIPTION:
URL:https://www.ecole-sainte-marie-vallet.fr/event/reunion-de-classe-cp-a-b-et-ce1-a-b/
END:VEVENT
BEGIN:VEVENT
DTSTART;TZID=Europe/Paris:20230918T183000
DTEND;TZID=Europe/Paris:20230918T193000
DTSTAMP:20260424T093532
CREATED:20230911T093024Z
LAST-MODIFIED:20230911T093024Z
UID:12323-1695061800-1695065400@www.ecole-sainte-marie-vallet.fr
SUMMARY:Réunion de classe MS A
DESCRIPTION:
URL:https://www.ecole-sainte-marie-vallet.fr/event/reunion-de-classe-ms-a/
END:VEVENT
BEGIN:VEVENT
DTSTART;TZID=Europe/Paris:20230919T183000
DTEND;TZID=Europe/Paris:20230919T193000
DTSTAMP:20260424T093532
CREATED:20230911T093112Z
LAST-MODIFIED:20230911T093112Z
UID:12325-1695148200-1695151800@www.ecole-sainte-marie-vallet.fr
SUMMARY:Réunion de classe MS B
DESCRIPTION:
URL:https://www.ecole-sainte-marie-vallet.fr/event/reunion-de-classe-ms-b/
END:VEVENT
BEGIN:VEVENT
DTSTART;VALUE=DATE:20230921
DTEND;VALUE=DATE:20230922
DTSTAMP:20260424T093532
CREATED:20230918T093315Z
LAST-MODIFIED:20230918T093315Z
UID:12355-1695254400-1695340799@www.ecole-sainte-marie-vallet.fr
SUMMARY:Photos de fratrie
DESCRIPTION:
URL:https://www.ecole-sainte-marie-vallet.fr/event/photos-de-fratrie/
END:VEVENT
BEGIN:VEVENT
DTSTART;TZID=Europe/Paris:20230921T183000
DTEND;TZID=Europe/Paris:20230921T193000
DTSTAMP:20260424T093532
CREATED:20230911T093229Z
LAST-MODIFIED:20230911T093229Z
UID:12327-1695321000-1695324600@www.ecole-sainte-marie-vallet.fr
SUMMARY:Réunion de classe CE2/CM1 \, CM1 et CM1/CM2
DESCRIPTION:
URL:https://www.ecole-sainte-marie-vallet.fr/event/reunion-de-classe-ce2-cm1-cm1-et-cm1-cm2/
END:VEVENT
BEGIN:VEVENT
DTSTART;VALUE=DATE:20230922
DTEND;VALUE=DATE:20230923
DTSTAMP:20260424T093532
CREATED:20230918T093349Z
LAST-MODIFIED:20230918T093349Z
UID:12357-1695340800-1695427199@www.ecole-sainte-marie-vallet.fr
SUMMARY:Photos de classe et individuelles
DESCRIPTION:
URL:https://www.ecole-sainte-marie-vallet.fr/event/photos-de-classe-et-individuelles/
END:VEVENT
BEGIN:VEVENT
DTSTART;TZID=Europe/Paris:20230925T183000
DTEND;TZID=Europe/Paris:20230925T193000
DTSTAMP:20260424T093532
CREATED:20230911T093326Z
LAST-MODIFIED:20230911T093326Z
UID:12329-1695666600-1695670200@www.ecole-sainte-marie-vallet.fr
SUMMARY:Réunion de classe GS A et GS B
DESCRIPTION:
URL:https://www.ecole-sainte-marie-vallet.fr/event/reunion-de-classe-gs-a-et-gs-b/
END:VEVENT
BEGIN:VEVENT
DTSTART;TZID=Europe/Paris:20230926T183000
DTEND;TZID=Europe/Paris:20230926T193000
DTSTAMP:20260424T093532
CREATED:20230911T093418Z
LAST-MODIFIED:20230911T093418Z
UID:12331-1695753000-1695756600@www.ecole-sainte-marie-vallet.fr
SUMMARY:Réunion de classe PS A et PS B
DESCRIPTION:
URL:https://www.ecole-sainte-marie-vallet.fr/event/reunion-de-classe-ps-a-et-ps-b/
END:VEVENT
BEGIN:VEVENT
DTSTART;TZID=Europe/Paris:20230928T183000
DTEND;TZID=Europe/Paris:20230928T193000
DTSTAMP:20260424T093532
CREATED:20230911T093508Z
LAST-MODIFIED:20230911T093508Z
UID:12333-1695925800-1695929400@www.ecole-sainte-marie-vallet.fr
SUMMARY:Réunion de classe CE2 A et CE2 B
DESCRIPTION:
URL:https://www.ecole-sainte-marie-vallet.fr/event/reunion-de-classe-ce2-a-et-ce2-b/
END:VEVENT
END:VCALENDAR