BEGIN:VCALENDAR
VERSION:2.0
PRODID:-//Ecole Sainte Marie - Vallet - ECPv6.15.20//NONSGML v1.0//EN
CALSCALE:GREGORIAN
METHOD:PUBLISH
X-ORIGINAL-URL:https://www.ecole-sainte-marie-vallet.fr
X-WR-CALDESC:Évènements pour Ecole Sainte Marie - Vallet
REFRESH-INTERVAL;VALUE=DURATION:PT1H
X-Robots-Tag:noindex
X-PUBLISHED-TTL:PT1H
BEGIN:VTIMEZONE
TZID:Europe/Paris
BEGIN:DAYLIGHT
TZOFFSETFROM:+0100
TZOFFSETTO:+0200
TZNAME:CEST
DTSTART:20220327T010000
END:DAYLIGHT
BEGIN:STANDARD
TZOFFSETFROM:+0200
TZOFFSETTO:+0100
TZNAME:CET
DTSTART:20221030T010000
END:STANDARD
BEGIN:DAYLIGHT
TZOFFSETFROM:+0100
TZOFFSETTO:+0200
TZNAME:CEST
DTSTART:20230326T010000
END:DAYLIGHT
BEGIN:STANDARD
TZOFFSETFROM:+0200
TZOFFSETTO:+0100
TZNAME:CET
DTSTART:20231029T010000
END:STANDARD
BEGIN:DAYLIGHT
TZOFFSETFROM:+0100
TZOFFSETTO:+0200
TZNAME:CEST
DTSTART:20240331T010000
END:DAYLIGHT
BEGIN:STANDARD
TZOFFSETFROM:+0200
TZOFFSETTO:+0100
TZNAME:CET
DTSTART:20241027T010000
END:STANDARD
END:VTIMEZONE
BEGIN:VEVENT
DTSTART;TZID=Europe/Paris:20231006T103000
DTEND;TZID=Europe/Paris:20231006T113000
DTSTAMP:20260424T082924
CREATED:20231001T090447Z
LAST-MODIFIED:20231001T090447Z
UID:12362-1696588200-1696591800@www.ecole-sainte-marie-vallet.fr
SUMMARY:Rassemblement d'école et visite en tutorat
DESCRIPTION:
URL:https://www.ecole-sainte-marie-vallet.fr/event/rassemblement-decole-et-visite-en-tutorat/
END:VEVENT
BEGIN:VEVENT
DTSTART;TZID=Europe/Paris:20231009T183000
DTEND;TZID=Europe/Paris:20231009T193000
DTSTAMP:20260424T082924
CREATED:20230918T093145Z
LAST-MODIFIED:20230918T093219Z
UID:12352-1696876200-1696879800@www.ecole-sainte-marie-vallet.fr
SUMMARY:Réunion de classe CM2 A
DESCRIPTION:
URL:https://www.ecole-sainte-marie-vallet.fr/event/reunion-de-classe-cm2-b/
END:VEVENT
BEGIN:VEVENT
DTSTART;TZID=Europe/Paris:20231010T183000
DTEND;TZID=Europe/Paris:20231010T193000
DTSTAMP:20260424T082924
CREATED:20230918T093043Z
LAST-MODIFIED:20230918T093103Z
UID:12349-1696962600-1696966200@www.ecole-sainte-marie-vallet.fr
SUMMARY:Réunion de classe CM2 B
DESCRIPTION:
URL:https://www.ecole-sainte-marie-vallet.fr/event/reunion-de-classe-cm2-a/
END:VEVENT
BEGIN:VEVENT
DTSTART;VALUE=DATE:20231012
DTEND;VALUE=DATE:20231013
DTSTAMP:20260424T082924
CREATED:20231010T151909Z
LAST-MODIFIED:20231010T151909Z
UID:12430-1697068800-1697155199@www.ecole-sainte-marie-vallet.fr
SUMMARY:PS - MS : Festi Soup
DESCRIPTION:
URL:https://www.ecole-sainte-marie-vallet.fr/event/ps-ms-festi-soup/
END:VEVENT
BEGIN:VEVENT
DTSTART;TZID=Europe/Paris:20231013T100000
DTEND;TZID=Europe/Paris:20231013T110000
DTSTAMP:20260424T082924
CREATED:20231001T090525Z
LAST-MODIFIED:20231001T090525Z
UID:12364-1697191200-1697194800@www.ecole-sainte-marie-vallet.fr
SUMMARY:Célébration de rentrée
DESCRIPTION:
URL:https://www.ecole-sainte-marie-vallet.fr/event/celebration-de-rentree/
END:VEVENT
BEGIN:VEVENT
DTSTART;TZID=Europe/Paris:20231017T090000
DTEND;TZID=Europe/Paris:20231017T120000
DTSTAMP:20260424T082924
CREATED:20231001T090623Z
LAST-MODIFIED:20231001T090623Z
UID:12366-1697533200-1697544000@www.ecole-sainte-marie-vallet.fr
SUMMARY:Flamme olympique de l'ECVN
DESCRIPTION:
URL:https://www.ecole-sainte-marie-vallet.fr/event/flamme-olympique-de-lecvn/
END:VEVENT
BEGIN:VEVENT
DTSTART;VALUE=DATE:20231021
DTEND;VALUE=DATE:20231106
DTSTAMP:20260424T082924
CREATED:20231001T090719Z
LAST-MODIFIED:20231001T090719Z
UID:12368-1697846400-1699228799@www.ecole-sainte-marie-vallet.fr
SUMMARY:Vacances de la Toussaint
DESCRIPTION:
URL:https://www.ecole-sainte-marie-vallet.fr/event/vacances-de-la-toussaint/
END:VEVENT
END:VCALENDAR