BEGIN:VCALENDAR
VERSION:2.0
PRODID:-//Ecole Sainte Marie - Vallet - ECPv6.15.20//NONSGML v1.0//EN
CALSCALE:GREGORIAN
METHOD:PUBLISH
X-ORIGINAL-URL:https://www.ecole-sainte-marie-vallet.fr
X-WR-CALDESC:Évènements pour Ecole Sainte Marie - Vallet
REFRESH-INTERVAL;VALUE=DURATION:PT1H
X-Robots-Tag:noindex
X-PUBLISHED-TTL:PT1H
BEGIN:VTIMEZONE
TZID:Europe/Paris
BEGIN:DAYLIGHT
TZOFFSETFROM:+0100
TZOFFSETTO:+0200
TZNAME:CEST
DTSTART:20220327T010000
END:DAYLIGHT
BEGIN:STANDARD
TZOFFSETFROM:+0200
TZOFFSETTO:+0100
TZNAME:CET
DTSTART:20221030T010000
END:STANDARD
BEGIN:DAYLIGHT
TZOFFSETFROM:+0100
TZOFFSETTO:+0200
TZNAME:CEST
DTSTART:20230326T010000
END:DAYLIGHT
BEGIN:STANDARD
TZOFFSETFROM:+0200
TZOFFSETTO:+0100
TZNAME:CET
DTSTART:20231029T010000
END:STANDARD
BEGIN:DAYLIGHT
TZOFFSETFROM:+0100
TZOFFSETTO:+0200
TZNAME:CEST
DTSTART:20240331T010000
END:DAYLIGHT
BEGIN:STANDARD
TZOFFSETFROM:+0200
TZOFFSETTO:+0100
TZNAME:CET
DTSTART:20241027T010000
END:STANDARD
BEGIN:DAYLIGHT
TZOFFSETFROM:+0100
TZOFFSETTO:+0200
TZNAME:CEST
DTSTART:20250330T010000
END:DAYLIGHT
BEGIN:STANDARD
TZOFFSETFROM:+0200
TZOFFSETTO:+0100
TZNAME:CET
DTSTART:20251026T010000
END:STANDARD
END:VTIMEZONE
BEGIN:VEVENT
DTSTART;TZID=Europe/Paris:20231202T163000
DTEND;TZID=Europe/Paris:20231202T190000
DTSTAMP:20260424T062414
CREATED:20231110T180535Z
LAST-MODIFIED:20231122T082109Z
UID:12570-1701534600-1701543600@www.ecole-sainte-marie-vallet.fr
SUMMARY:Marché de Noël et illuminations
DESCRIPTION:
URL:https://www.ecole-sainte-marie-vallet.fr/event/marche-de-noel-et-illuminations/
END:VEVENT
BEGIN:VEVENT
DTSTART;VALUE=DATE:20231211
DTEND;VALUE=DATE:20231213
DTSTAMP:20260424T062414
CREATED:20231110T180848Z
LAST-MODIFIED:20231110T180848Z
UID:12572-1702252800-1702425599@www.ecole-sainte-marie-vallet.fr
SUMMARY:CM : Cinéma
DESCRIPTION:
URL:https://www.ecole-sainte-marie-vallet.fr/event/cm-cinema/
END:VEVENT
BEGIN:VEVENT
DTSTART;TZID=Europe/Paris:20231219T090000
DTEND;TZID=Europe/Paris:20231219T113000
DTSTAMP:20260424T062414
CREATED:20231206T102044Z
LAST-MODIFIED:20231206T102105Z
UID:12634-1702976400-1702985400@www.ecole-sainte-marie-vallet.fr
SUMMARY:Maternelles : cinéma de noël
DESCRIPTION:
URL:https://www.ecole-sainte-marie-vallet.fr/event/maternelles-cinema-de-noel/
END:VEVENT
BEGIN:VEVENT
DTSTART;TZID=Europe/Paris:20231221T153000
DTEND;TZID=Europe/Paris:20231221T163000
DTSTAMP:20260424T062414
CREATED:20231206T102225Z
LAST-MODIFIED:20231206T102225Z
UID:12637-1703172600-1703176200@www.ecole-sainte-marie-vallet.fr
SUMMARY:Maternelles : Gouter de Noël
DESCRIPTION:Rassemblement des maternelles pour partager un gouter de Noël.
URL:https://www.ecole-sainte-marie-vallet.fr/event/maternelles-gouter-de-noel/
END:VEVENT
BEGIN:VEVENT
DTSTART;VALUE=DATE:20231223
DTEND;VALUE=DATE:20240108
DTSTAMP:20260424T062414
CREATED:20231127T172905Z
LAST-MODIFIED:20231127T172905Z
UID:12592-1703289600-1704671999@www.ecole-sainte-marie-vallet.fr
SUMMARY:Vacances de Noël
DESCRIPTION:
URL:https://www.ecole-sainte-marie-vallet.fr/event/vacances-de-noel/
END:VEVENT
END:VCALENDAR