BEGIN:VCALENDAR
VERSION:2.0
PRODID:-//Ecole Sainte Marie - Vallet - ECPv6.15.20//NONSGML v1.0//EN
CALSCALE:GREGORIAN
METHOD:PUBLISH
X-WR-CALNAME:Ecole Sainte Marie - Vallet
X-ORIGINAL-URL:https://www.ecole-sainte-marie-vallet.fr
X-WR-CALDESC:Évènements pour Ecole Sainte Marie - Vallet
REFRESH-INTERVAL;VALUE=DURATION:PT1H
X-Robots-Tag:noindex
X-PUBLISHED-TTL:PT1H
BEGIN:VTIMEZONE
TZID:Europe/Paris
BEGIN:DAYLIGHT
TZOFFSETFROM:+0100
TZOFFSETTO:+0200
TZNAME:CEST
DTSTART:20230326T010000
END:DAYLIGHT
BEGIN:STANDARD
TZOFFSETFROM:+0200
TZOFFSETTO:+0100
TZNAME:CET
DTSTART:20231029T010000
END:STANDARD
BEGIN:DAYLIGHT
TZOFFSETFROM:+0100
TZOFFSETTO:+0200
TZNAME:CEST
DTSTART:20240331T010000
END:DAYLIGHT
BEGIN:STANDARD
TZOFFSETFROM:+0200
TZOFFSETTO:+0100
TZNAME:CET
DTSTART:20241027T010000
END:STANDARD
BEGIN:DAYLIGHT
TZOFFSETFROM:+0100
TZOFFSETTO:+0200
TZNAME:CEST
DTSTART:20250330T010000
END:DAYLIGHT
BEGIN:STANDARD
TZOFFSETFROM:+0200
TZOFFSETTO:+0100
TZNAME:CET
DTSTART:20251026T010000
END:STANDARD
END:VTIMEZONE
BEGIN:VEVENT
DTSTART;VALUE=DATE:20240516
DTEND;VALUE=DATE:20240517
DTSTAMP:20260424T004503
CREATED:20240404T161605Z
LAST-MODIFIED:20240404T161605Z
UID:12998-1715817600-1715903999@www.ecole-sainte-marie-vallet.fr
SUMMARY:CM2 - intervention de Vallet Mémoires
DESCRIPTION:
URL:https://www.ecole-sainte-marie-vallet.fr/event/cm2-intervention-de-vallet-memoires/
END:VEVENT
BEGIN:VEVENT
DTSTART;VALUE=DATE:20240516
DTEND;VALUE=DATE:20240517
DTSTAMP:20260424T004503
CREATED:20240515T132503Z
LAST-MODIFIED:20240515T132503Z
UID:13067-1715817600-1715903999@www.ecole-sainte-marie-vallet.fr
SUMMARY:Vote incorruptibles
DESCRIPTION:
URL:https://www.ecole-sainte-marie-vallet.fr/event/vote-incorruptibles/
END:VEVENT
BEGIN:VEVENT
DTSTART;VALUE=DATE:20240517
DTEND;VALUE=DATE:20240518
DTSTAMP:20260424T004503
CREATED:20240515T132553Z
LAST-MODIFIED:20240515T132553Z
UID:13069-1715904000-1715990399@www.ecole-sainte-marie-vallet.fr
SUMMARY:CM2 - Savoir rouler à vélo
DESCRIPTION:
URL:https://www.ecole-sainte-marie-vallet.fr/event/cm2-savoir-rouler-a-velo/
END:VEVENT
BEGIN:VEVENT
DTSTART;TZID=Europe/Paris:20240523T090000
DTEND;TZID=Europe/Paris:20240523T103000
DTSTAMP:20260424T004503
CREATED:20240515T132639Z
LAST-MODIFIED:20240515T132639Z
UID:13071-1716454800-1716460200@www.ecole-sainte-marie-vallet.fr
SUMMARY:CM1-CM2 : Visite des resto du cœur
DESCRIPTION:
URL:https://www.ecole-sainte-marie-vallet.fr/event/cm1-cm2-visite-des-resto-du-coeur/
END:VEVENT
BEGIN:VEVENT
DTSTART;VALUE=DATE:20240524
DTEND;VALUE=DATE:20240525
DTSTAMP:20260424T004503
CREATED:20240515T132725Z
LAST-MODIFIED:20240515T132725Z
UID:13073-1716508800-1716595199@www.ecole-sainte-marie-vallet.fr
SUMMARY:Journée olympique
DESCRIPTION:
URL:https://www.ecole-sainte-marie-vallet.fr/event/journee-olympique/
END:VEVENT
END:VCALENDAR