BEGIN:VCALENDAR
VERSION:2.0
PRODID:-//Ecole Sainte Marie - Vallet - ECPv6.15.20//NONSGML v1.0//EN
CALSCALE:GREGORIAN
METHOD:PUBLISH
X-WR-CALNAME:Ecole Sainte Marie - Vallet
X-ORIGINAL-URL:https://www.ecole-sainte-marie-vallet.fr
X-WR-CALDESC:Évènements pour Ecole Sainte Marie - Vallet
REFRESH-INTERVAL;VALUE=DURATION:PT1H
X-Robots-Tag:noindex
X-PUBLISHED-TTL:PT1H
BEGIN:VTIMEZONE
TZID:Europe/Paris
BEGIN:DAYLIGHT
TZOFFSETFROM:+0100
TZOFFSETTO:+0200
TZNAME:CEST
DTSTART:20230326T010000
END:DAYLIGHT
BEGIN:STANDARD
TZOFFSETFROM:+0200
TZOFFSETTO:+0100
TZNAME:CET
DTSTART:20231029T010000
END:STANDARD
BEGIN:DAYLIGHT
TZOFFSETFROM:+0100
TZOFFSETTO:+0200
TZNAME:CEST
DTSTART:20240331T010000
END:DAYLIGHT
BEGIN:STANDARD
TZOFFSETFROM:+0200
TZOFFSETTO:+0100
TZNAME:CET
DTSTART:20241027T010000
END:STANDARD
BEGIN:DAYLIGHT
TZOFFSETFROM:+0100
TZOFFSETTO:+0200
TZNAME:CEST
DTSTART:20250330T010000
END:DAYLIGHT
BEGIN:STANDARD
TZOFFSETFROM:+0200
TZOFFSETTO:+0100
TZNAME:CET
DTSTART:20251026T010000
END:STANDARD
END:VTIMEZONE
BEGIN:VEVENT
DTSTART;VALUE=DATE:20240603
DTEND;VALUE=DATE:20240604
DTSTAMP:20260424T150623
CREATED:20240531T114819Z
LAST-MODIFIED:20240531T114819Z
UID:13105-1717372800-1717459199@www.ecole-sainte-marie-vallet.fr
SUMMARY:Sortie au Jardin de Mélisse PSa et PS b
DESCRIPTION:
URL:https://www.ecole-sainte-marie-vallet.fr/event/sortie-au-jardin-de-melisse-psa-et-ps-b/
END:VEVENT
BEGIN:VEVENT
DTSTART;VALUE=DATE:20240606
DTEND;VALUE=DATE:20240607
DTSTAMP:20260424T150623
CREATED:20240515T132821Z
LAST-MODIFIED:20240515T132821Z
UID:13075-1717632000-1717718399@www.ecole-sainte-marie-vallet.fr
SUMMARY:CM2 - Olympiades inter-école
DESCRIPTION:
URL:https://www.ecole-sainte-marie-vallet.fr/event/cm2-olympiades-inter-ecole/
END:VEVENT
BEGIN:VEVENT
DTSTART;VALUE=DATE:20240607
DTEND;VALUE=DATE:20240608
DTSTAMP:20260424T150623
CREATED:20240531T114920Z
LAST-MODIFIED:20240531T114920Z
UID:13107-1717718400-1717804799@www.ecole-sainte-marie-vallet.fr
SUMMARY:Sortie Journée olympique des CE2 b
DESCRIPTION:Sur l’île Forget à St Sébastien s/ Loire
URL:https://www.ecole-sainte-marie-vallet.fr/event/sortie-journee-olympique-des-ce2-b/
END:VEVENT
BEGIN:VEVENT
DTSTART;VALUE=DATE:20240613
DTEND;VALUE=DATE:20240615
DTSTAMP:20260424T150623
CREATED:20240612T122655Z
LAST-MODIFIED:20240612T122655Z
UID:13148-1718236800-1718409599@www.ecole-sainte-marie-vallet.fr
SUMMARY:CM2 : Savoir rouler à vélo
DESCRIPTION:
URL:https://www.ecole-sainte-marie-vallet.fr/event/cm2-savoir-rouler-a-velo-2/
END:VEVENT
BEGIN:VEVENT
DTSTART;VALUE=DATE:20240616
DTEND;VALUE=DATE:20240617
DTSTAMP:20260424T150623
CREATED:20240402T091315Z
LAST-MODIFIED:20240402T091315Z
UID:12976-1718496000-1718582399@www.ecole-sainte-marie-vallet.fr
SUMMARY:Kermesse
DESCRIPTION:
URL:https://www.ecole-sainte-marie-vallet.fr/event/kermesse/
LOCATION:Les Dorices
END:VEVENT
BEGIN:VEVENT
DTSTART;VALUE=DATE:20240617
DTEND;VALUE=DATE:20240618
DTSTAMP:20260424T150623
CREATED:20240529T074641Z
LAST-MODIFIED:20240529T074641Z
UID:13094-1718582400-1718668799@www.ecole-sainte-marie-vallet.fr
SUMMARY:CM1 : visite de la caserne des pompiers
DESCRIPTION:
URL:https://www.ecole-sainte-marie-vallet.fr/event/cm1-visite-de-la-caserne-des-pompiers/
END:VEVENT
BEGIN:VEVENT
DTSTART;TZID=Europe/Paris:20240618T090000
DTEND;TZID=Europe/Paris:20240619T100000
DTSTAMP:20260424T150623
CREATED:20240529T074539Z
LAST-MODIFIED:20240529T074539Z
UID:13092-1718701200-1718791200@www.ecole-sainte-marie-vallet.fr
SUMMARY:CM2 : sortie avec nuitée à Briacé
DESCRIPTION:
URL:https://www.ecole-sainte-marie-vallet.fr/event/cm2-sortie-avec-nuitee-a-briace/
END:VEVENT
BEGIN:VEVENT
DTSTART;VALUE=DATE:20240625
DTEND;VALUE=DATE:20240626
DTSTAMP:20260424T150623
CREATED:20240529T074712Z
LAST-MODIFIED:20240529T074712Z
UID:13096-1719273600-1719359999@www.ecole-sainte-marie-vallet.fr
SUMMARY:CM : Cinéma
DESCRIPTION:
URL:https://www.ecole-sainte-marie-vallet.fr/event/cm-cinema-3/
END:VEVENT
BEGIN:VEVENT
DTSTART;TZID=Europe/Paris:20240625T170000
DTEND;TZID=Europe/Paris:20240625T190000
DTSTAMP:20260424T150623
CREATED:20240531T114134Z
LAST-MODIFIED:20240531T114634Z
UID:13098-1719334800-1719342000@www.ecole-sainte-marie-vallet.fr
SUMMARY:Fête de la périscolaire
DESCRIPTION:Venez partager un temps de convivialité avec vos enfants pour fêter avec toute l’équipe périscolaire maternel et primaire la fin de cette année! \nJeux\, goûter\, tatouages\, jeux en bois\,…
URL:https://www.ecole-sainte-marie-vallet.fr/event/sortie-au-jardin-de-melisse-psa-et-psb/
END:VEVENT
BEGIN:VEVENT
DTSTART;VALUE=DATE:20240627
DTEND;VALUE=DATE:20240628
DTSTAMP:20260424T150623
CREATED:20240531T115018Z
LAST-MODIFIED:20240531T115018Z
UID:13109-1719446400-1719532799@www.ecole-sainte-marie-vallet.fr
SUMMARY:RAID sportif CE2 a et CE2 b
DESCRIPTION:A St Julien de Concelles
URL:https://www.ecole-sainte-marie-vallet.fr/event/raid-sportif-ce2-a-et-ce2-b/
END:VEVENT
END:VCALENDAR