BEGIN:VCALENDAR
VERSION:2.0
PRODID:-//Ecole Sainte Marie - Vallet - ECPv6.15.20//NONSGML v1.0//EN
CALSCALE:GREGORIAN
METHOD:PUBLISH
X-ORIGINAL-URL:https://www.ecole-sainte-marie-vallet.fr
X-WR-CALDESC:Évènements pour Ecole Sainte Marie - Vallet
REFRESH-INTERVAL;VALUE=DURATION:PT1H
X-Robots-Tag:noindex
X-PUBLISHED-TTL:PT1H
BEGIN:VTIMEZONE
TZID:Europe/Paris
BEGIN:DAYLIGHT
TZOFFSETFROM:+0100
TZOFFSETTO:+0200
TZNAME:CEST
DTSTART:20230326T010000
END:DAYLIGHT
BEGIN:STANDARD
TZOFFSETFROM:+0200
TZOFFSETTO:+0100
TZNAME:CET
DTSTART:20231029T010000
END:STANDARD
BEGIN:DAYLIGHT
TZOFFSETFROM:+0100
TZOFFSETTO:+0200
TZNAME:CEST
DTSTART:20240331T010000
END:DAYLIGHT
BEGIN:STANDARD
TZOFFSETFROM:+0200
TZOFFSETTO:+0100
TZNAME:CET
DTSTART:20241027T010000
END:STANDARD
BEGIN:DAYLIGHT
TZOFFSETFROM:+0100
TZOFFSETTO:+0200
TZNAME:CEST
DTSTART:20250330T010000
END:DAYLIGHT
BEGIN:STANDARD
TZOFFSETFROM:+0200
TZOFFSETTO:+0100
TZNAME:CET
DTSTART:20251026T010000
END:STANDARD
END:VTIMEZONE
BEGIN:VEVENT
DTSTART;VALUE=DATE:20240902
DTEND;VALUE=DATE:20240903
DTSTAMP:20260423T191110
CREATED:20240706T082039Z
LAST-MODIFIED:20240706T082039Z
UID:13218-1725235200-1725321599@www.ecole-sainte-marie-vallet.fr
SUMMARY:Rentrée
DESCRIPTION:
URL:https://www.ecole-sainte-marie-vallet.fr/event/rentree/
END:VEVENT
BEGIN:VEVENT
DTSTART;TZID=Europe/Paris:20240913T110000
DTEND;TZID=Europe/Paris:20240913T113000
DTSTAMP:20260423T191110
CREATED:20240906T073621Z
LAST-MODIFIED:20240906T073621Z
UID:13227-1726225200-1726227000@www.ecole-sainte-marie-vallet.fr
SUMMARY:Rassemblement d'élèves
DESCRIPTION:A l’occasion de la rentrée\, nous accueillerons les nouveaux élèves et pratiquerons la visite de l’école entre classe tutorat. \nUn moment que les enfants affectionnent !
URL:https://www.ecole-sainte-marie-vallet.fr/event/rassemblement-deleves/
END:VEVENT
BEGIN:VEVENT
DTSTART;TZID=Europe/Paris:20240917T183000
DTEND;TZID=Europe/Paris:20240917T193000
DTSTAMP:20260423T191110
CREATED:20240913T094830Z
LAST-MODIFIED:20240913T094830Z
UID:13232-1726597800-1726601400@www.ecole-sainte-marie-vallet.fr
SUMMARY:Réunion classe  MS (Marie et Mélanie)
DESCRIPTION:
URL:https://www.ecole-sainte-marie-vallet.fr/event/reunion-classe-ms-marie-et-melanie/
END:VEVENT
BEGIN:VEVENT
DTSTART;TZID=Europe/Paris:20240919T183000
DTEND;TZID=Europe/Paris:20240919T193000
DTSTAMP:20260423T191110
CREATED:20240913T095117Z
LAST-MODIFIED:20240913T095117Z
UID:13239-1726770600-1726774200@www.ecole-sainte-marie-vallet.fr
SUMMARY:Réunion classe CM1 et CE2/CM1
DESCRIPTION:
URL:https://www.ecole-sainte-marie-vallet.fr/event/reunion-classe-cm1-et-ce2-cm1/
END:VEVENT
BEGIN:VEVENT
DTSTART;TZID=Europe/Paris:20240920T183000
DTEND;TZID=Europe/Paris:20240920T193000
DTSTAMP:20260423T191110
CREATED:20240913T094734Z
LAST-MODIFIED:20240913T094849Z
UID:13230-1726857000-1726860600@www.ecole-sainte-marie-vallet.fr
SUMMARY:Réunion classe PS
DESCRIPTION:
URL:https://www.ecole-sainte-marie-vallet.fr/event/reunion-classe-ps-a-et-b/
END:VEVENT
BEGIN:VEVENT
DTSTART;VALUE=DATE:20240923
DTEND;VALUE=DATE:20240924
DTSTAMP:20260423T191110
CREATED:20240913T095329Z
LAST-MODIFIED:20240913T095329Z
UID:13243-1727049600-1727135999@www.ecole-sainte-marie-vallet.fr
SUMMARY:Sortie voile CM1 A et B
DESCRIPTION:
URL:https://www.ecole-sainte-marie-vallet.fr/event/sortie-voile-cm1-a-et-b/
END:VEVENT
BEGIN:VEVENT
DTSTART;TZID=Europe/Paris:20240924T183000
DTEND;TZID=Europe/Paris:20240924T193000
DTSTAMP:20260423T191110
CREATED:20240913T094934Z
LAST-MODIFIED:20240913T094934Z
UID:13235-1727202600-1727206200@www.ecole-sainte-marie-vallet.fr
SUMMARY:Réunion classe MS/GS et GS
DESCRIPTION:
URL:https://www.ecole-sainte-marie-vallet.fr/event/reunion-classe-ms-gs-et-gs/
END:VEVENT
BEGIN:VEVENT
DTSTART;VALUE=DATE:20240927
DTEND;VALUE=DATE:20240928
DTSTAMP:20260423T191110
CREATED:20240913T095344Z
LAST-MODIFIED:20240913T095344Z
UID:13245-1727395200-1727481599@www.ecole-sainte-marie-vallet.fr
SUMMARY:Sortie voile CM1 A et B
DESCRIPTION:
URL:https://www.ecole-sainte-marie-vallet.fr/event/sortie-voile-cm1-a-et-b-2/
END:VEVENT
BEGIN:VEVENT
DTSTART;TZID=Europe/Paris:20240927T183000
DTEND;TZID=Europe/Paris:20240927T193000
DTSTAMP:20260423T191110
CREATED:20240913T095029Z
LAST-MODIFIED:20240913T095029Z
UID:13237-1727461800-1727465400@www.ecole-sainte-marie-vallet.fr
SUMMARY:Réunion classe CE2 A et B
DESCRIPTION:
URL:https://www.ecole-sainte-marie-vallet.fr/event/reunion-classe-ce2-a-et-b/
END:VEVENT
END:VCALENDAR