BEGIN:VCALENDAR
VERSION:2.0
PRODID:-//Ecole Sainte Marie - Vallet - ECPv6.15.20//NONSGML v1.0//EN
CALSCALE:GREGORIAN
METHOD:PUBLISH
X-ORIGINAL-URL:https://www.ecole-sainte-marie-vallet.fr
X-WR-CALDESC:Évènements pour Ecole Sainte Marie - Vallet
REFRESH-INTERVAL;VALUE=DURATION:PT1H
X-Robots-Tag:noindex
X-PUBLISHED-TTL:PT1H
BEGIN:VTIMEZONE
TZID:Europe/Paris
BEGIN:DAYLIGHT
TZOFFSETFROM:+0100
TZOFFSETTO:+0200
TZNAME:CEST
DTSTART:20230326T010000
END:DAYLIGHT
BEGIN:STANDARD
TZOFFSETFROM:+0200
TZOFFSETTO:+0100
TZNAME:CET
DTSTART:20231029T010000
END:STANDARD
BEGIN:DAYLIGHT
TZOFFSETFROM:+0100
TZOFFSETTO:+0200
TZNAME:CEST
DTSTART:20240331T010000
END:DAYLIGHT
BEGIN:STANDARD
TZOFFSETFROM:+0200
TZOFFSETTO:+0100
TZNAME:CET
DTSTART:20241027T010000
END:STANDARD
BEGIN:DAYLIGHT
TZOFFSETFROM:+0100
TZOFFSETTO:+0200
TZNAME:CEST
DTSTART:20250330T010000
END:DAYLIGHT
BEGIN:STANDARD
TZOFFSETFROM:+0200
TZOFFSETTO:+0100
TZNAME:CET
DTSTART:20251026T010000
END:STANDARD
END:VTIMEZONE
BEGIN:VEVENT
DTSTART;VALUE=DATE:20241003
DTEND;VALUE=DATE:20241005
DTSTAMP:20260423T173947
CREATED:20240924T172912Z
LAST-MODIFIED:20240924T172912Z
UID:13276-1727913600-1728086399@www.ecole-sainte-marie-vallet.fr
SUMMARY:Photos fratrie et classe
DESCRIPTION:
URL:https://www.ecole-sainte-marie-vallet.fr/event/photos-fratrie-et-classe/
END:VEVENT
BEGIN:VEVENT
DTSTART;VALUE=DATE:20241004
DTEND;VALUE=DATE:20241005
DTSTAMP:20260423T173947
CREATED:20240913T095433Z
LAST-MODIFIED:20240913T095433Z
UID:13249-1728000000-1728086399@www.ecole-sainte-marie-vallet.fr
SUMMARY:Sortie voile CM1 A et B
DESCRIPTION:
URL:https://www.ecole-sainte-marie-vallet.fr/event/sortie-voile-cm1-a-et-b-4/
END:VEVENT
BEGIN:VEVENT
DTSTART;TZID=Europe/Paris:20241008T183000
DTEND;TZID=Europe/Paris:20241008T193000
DTSTAMP:20260423T173947
CREATED:20240913T095259Z
LAST-MODIFIED:20240913T095259Z
UID:13241-1728412200-1728415800@www.ecole-sainte-marie-vallet.fr
SUMMARY:Réunion classe CM2
DESCRIPTION:
URL:https://www.ecole-sainte-marie-vallet.fr/event/reunion-classe-cm2/
END:VEVENT
BEGIN:VEVENT
DTSTART;TZID=Europe/Paris:20241010T133000
DTEND;TZID=Europe/Paris:20241010T163000
DTSTAMP:20260423T173947
CREATED:20240924T173203Z
LAST-MODIFIED:20240924T173203Z
UID:13281-1728567000-1728577800@www.ecole-sainte-marie-vallet.fr
SUMMARY:Cross du collège CM1 et CM2
DESCRIPTION:
URL:https://www.ecole-sainte-marie-vallet.fr/event/cross-du-college-cm1-et-cm2/
LOCATION:Les Dorices
END:VEVENT
BEGIN:VEVENT
DTSTART;TZID=Europe/Paris:20241011T100000
DTEND;TZID=Europe/Paris:20241011T110000
DTSTAMP:20260423T173947
CREATED:20240924T172952Z
LAST-MODIFIED:20240924T172952Z
UID:13279-1728640800-1728644400@www.ecole-sainte-marie-vallet.fr
SUMMARY:Célébration de rentrée
DESCRIPTION:
URL:https://www.ecole-sainte-marie-vallet.fr/event/celebration-de-rentree-2/
END:VEVENT
BEGIN:VEVENT
DTSTART;VALUE=DATE:20241015
DTEND;VALUE=DATE:20241016
DTSTAMP:20260423T173947
CREATED:20240913T095410Z
LAST-MODIFIED:20240913T095410Z
UID:13247-1728950400-1729036799@www.ecole-sainte-marie-vallet.fr
SUMMARY:Sortie voile CM1 A et B
DESCRIPTION:
URL:https://www.ecole-sainte-marie-vallet.fr/event/sortie-voile-cm1-a-et-b-3/
END:VEVENT
BEGIN:VEVENT
DTSTART;VALUE=DATE:20241017
DTEND;VALUE=DATE:20241018
DTSTAMP:20260423T173947
CREATED:20241006T131948Z
LAST-MODIFIED:20241006T131948Z
UID:13286-1729123200-1729209599@www.ecole-sainte-marie-vallet.fr
SUMMARY:Vote pour le Conseil municipal des enfants
DESCRIPTION:
URL:https://www.ecole-sainte-marie-vallet.fr/event/vote-pour-le-conseil-municipal-des-enfants/
END:VEVENT
BEGIN:VEVENT
DTSTART;VALUE=DATE:20241018
DTEND;VALUE=DATE:20241019
DTSTAMP:20260423T173947
CREATED:20240924T173308Z
LAST-MODIFIED:20240924T173308Z
UID:13283-1729209600-1729295999@www.ecole-sainte-marie-vallet.fr
SUMMARY:Journée pédagogique (pas d'école)
DESCRIPTION:
URL:https://www.ecole-sainte-marie-vallet.fr/event/journee-pedagogique-pas-decole-2/
END:VEVENT
END:VCALENDAR