BEGIN:VCALENDAR
VERSION:2.0
PRODID:-//Ecole Sainte Marie - Vallet - ECPv6.15.20//NONSGML v1.0//EN
CALSCALE:GREGORIAN
METHOD:PUBLISH
X-WR-CALNAME:Ecole Sainte Marie - Vallet
X-ORIGINAL-URL:https://www.ecole-sainte-marie-vallet.fr
X-WR-CALDESC:Évènements pour Ecole Sainte Marie - Vallet
REFRESH-INTERVAL;VALUE=DURATION:PT1H
X-Robots-Tag:noindex
X-PUBLISHED-TTL:PT1H
BEGIN:VTIMEZONE
TZID:Europe/Paris
BEGIN:DAYLIGHT
TZOFFSETFROM:+0100
TZOFFSETTO:+0200
TZNAME:CEST
DTSTART:20240331T010000
END:DAYLIGHT
BEGIN:STANDARD
TZOFFSETFROM:+0200
TZOFFSETTO:+0100
TZNAME:CET
DTSTART:20241027T010000
END:STANDARD
BEGIN:DAYLIGHT
TZOFFSETFROM:+0100
TZOFFSETTO:+0200
TZNAME:CEST
DTSTART:20250330T010000
END:DAYLIGHT
BEGIN:STANDARD
TZOFFSETFROM:+0200
TZOFFSETTO:+0100
TZNAME:CET
DTSTART:20251026T010000
END:STANDARD
BEGIN:DAYLIGHT
TZOFFSETFROM:+0100
TZOFFSETTO:+0200
TZNAME:CEST
DTSTART:20260329T010000
END:DAYLIGHT
BEGIN:STANDARD
TZOFFSETFROM:+0200
TZOFFSETTO:+0100
TZNAME:CET
DTSTART:20261025T010000
END:STANDARD
END:VTIMEZONE
BEGIN:VEVENT
DTSTART;TZID=Europe/Paris:20250110T100000
DTEND;TZID=Europe/Paris:20250110T110000
DTSTAMP:20260423T131915
CREATED:20241221T093251Z
LAST-MODIFIED:20241221T093251Z
UID:13430-1736503200-1736506800@www.ecole-sainte-marie-vallet.fr
SUMMARY:Célébration de l'épiphanie
DESCRIPTION:
URL:https://www.ecole-sainte-marie-vallet.fr/event/celebration-de-lepiphanie/
LOCATION:Eglise
END:VEVENT
BEGIN:VEVENT
DTSTART;TZID=Europe/Paris:20250117T200000
DTEND;TZID=Europe/Paris:20250117T210000
DTSTAMP:20260423T131915
CREATED:20250116T092222Z
LAST-MODIFIED:20250116T092222Z
UID:13469-1737144000-1737147600@www.ecole-sainte-marie-vallet.fr
SUMMARY:Assemblée Générale de l'OGEC Ste Marie
DESCRIPTION:
URL:https://www.ecole-sainte-marie-vallet.fr/event/assemblee-generale-de-logec-ste-marie/
END:VEVENT
BEGIN:VEVENT
DTSTART;VALUE=DATE:20250123
DTEND;VALUE=DATE:20250124
DTSTAMP:20260423T131915
CREATED:20241221T093514Z
LAST-MODIFIED:20241221T093514Z
UID:13433-1737590400-1737676799@www.ecole-sainte-marie-vallet.fr
SUMMARY:CM1 : Finale de l'école des Petits champions de la lecture
DESCRIPTION:
URL:https://www.ecole-sainte-marie-vallet.fr/event/cm1-finale-de-lecole-des-petits-champions-de-la-lecture/
LOCATION:médiathèque Vallet
END:VEVENT
BEGIN:VEVENT
DTSTART;VALUE=DATE:20250131
DTEND;VALUE=DATE:20250201
DTSTAMP:20260423T131915
CREATED:20241221T093623Z
LAST-MODIFIED:20241221T093623Z
UID:13435-1738281600-1738367999@www.ecole-sainte-marie-vallet.fr
SUMMARY:CM1 : Visite de la cantine
DESCRIPTION:
URL:https://www.ecole-sainte-marie-vallet.fr/event/cm1-visite-de-la-cantine/
END:VEVENT
END:VCALENDAR